BEGIN:VCALENDAR
VERSION:2.0
PRODID:-//Kings BBQ - ECPv6.15.12.2//NONSGML v1.0//EN
CALSCALE:GREGORIAN
METHOD:PUBLISH
X-ORIGINAL-URL:https://kingsbbqjax.com
X-WR-CALDESC:Events for Kings BBQ
REFRESH-INTERVAL;VALUE=DURATION:PT1H
X-Robots-Tag:noindex
X-PUBLISHED-TTL:PT1H
BEGIN:VTIMEZONE
TZID:America/New_York
BEGIN:DAYLIGHT
TZOFFSETFROM:-0500
TZOFFSETTO:-0400
TZNAME:EDT
DTSTART:20250309T070000
END:DAYLIGHT
BEGIN:STANDARD
TZOFFSETFROM:-0400
TZOFFSETTO:-0500
TZNAME:EST
DTSTART:20251102T060000
END:STANDARD
BEGIN:DAYLIGHT
TZOFFSETFROM:-0500
TZOFFSETTO:-0400
TZNAME:EDT
DTSTART:20260308T070000
END:DAYLIGHT
BEGIN:STANDARD
TZOFFSETFROM:-0400
TZOFFSETTO:-0500
TZNAME:EST
DTSTART:20261101T060000
END:STANDARD
BEGIN:DAYLIGHT
TZOFFSETFROM:-0500
TZOFFSETTO:-0400
TZNAME:EDT
DTSTART:20270314T070000
END:DAYLIGHT
BEGIN:STANDARD
TZOFFSETFROM:-0400
TZOFFSETTO:-0500
TZNAME:EST
DTSTART:20271107T060000
END:STANDARD
END:VTIMEZONE
BEGIN:VEVENT
DTSTART;VALUE=DATE:20260417
DTEND;VALUE=DATE:20260419
DTSTAMP:20260419T103653
CREATED:20251212T171523Z
LAST-MODIFIED:20260220T214231Z
UID:862-1776384000-1776556799@kingsbbqjax.com
SUMMARY:The Downtown BBQ Showdown (2026)
DESCRIPTION:The Downtown BBQ Showdown brings fierce competition and big flavor to the heart of the city as pitmasters from across the region gather to battle for top honors. Set against a vibrant urban backdrop\, this event transforms downtown into a celebration of smoke\, skill\, and culinary craftsmanship. Over two days—Friday\, April 17\, 2026\, from 12:00 p.m. to 11:00 p.m.\, and Saturday\, April 18\, 2026\, from 9:00 a.m. to 6:00 p.m.—teams compete for trophies\, prize money\, and bragging rights\, all while crowds enjoy the sights\, sounds\, and aromas of a premier barbecue festival. With live entertainment\, local vendors\, and a high-energy atmosphere\, the Downtown BBQ Showdown has become a standout event for competitors and BBQ fans alike. \nRyan King and the Kings BBQ team will be on-site throughout the weekend\, proudly representing Jacksonville and showcasing the championship techniques that have earned them recognition across the Southeast. Guests are invited to stop by our cook site to cheer us on\, meet the team\, and get an up-close look at the intensity and precision of competition barbecue in a vibrant downtown setting. \nIf you’ll be in the area April 17–18\, 2026\, come join the excitement as the city comes alive with great food\, great music\, and the spirited rivalry that makes the Downtown BBQ Showdown a must-see event for barbecue enthusiasts.
URL:https://kingsbbqjax.com/event/the-downtown-bbq-showdown-2026/
LOCATION:Wilson Park\, Wilson Park\, Lake City\, 32055\, United States
CATEGORIES:BBQ Competition
ATTACH;FMTTYPE=image/png:https://kingsbbqjax.com/wp-content/uploads/2025/12/Kings-Lakeland-Pigfest-3.png
ORGANIZER;CN="Kansas City Barbecue Society (KCBS)":MAILTO:info@kcbs.us
END:VEVENT
BEGIN:VEVENT
DTSTART;VALUE=DATE:20260313
DTEND;VALUE=DATE:20260315
DTSTAMP:20260419T103653
CREATED:20251212T170917Z
LAST-MODIFIED:20260220T214224Z
UID:857-1773360000-1773532799@kingsbbqjax.com
SUMMARY:Jeepin for Justice BBQ Competition (2026)
DESCRIPTION:The Jeepin’ for Justice BBQ Competition brings together pitmasters\, Jeep enthusiasts\, and community supporters for a high-energy event that blends charitable purpose with serious barbecue competition. Teams from across the region roll in to battle for top honors\, firing up their pits as lifted Jeeps and custom rigs line the grounds in a unique fusion of craft cooking and off-road culture. With proceeds supporting local law enforcement initiatives and community programs\, this event has become a meaningful annual gathering that celebrates great food\, great people\, and a shared commitment to giving back. \nRyan King and the Kings BBQ team will be on-site throughout the event\, representing Jacksonville and showcasing the championship-level techniques that have earned them recognition across the Southeast. Visitors are encouraged to stop by our cook site to cheer us on\, meet the team\, and get a behind-the-scenes look at competition barbecue in a setting unlike any other. \nIf you’re attending Jeepin’ for Justice\, come join the excitement and experience a day filled with delicious BBQ\, community pride\, and the unmistakable roar of Jeep culture— all coming together for an unforgettable cause.
URL:https://kingsbbqjax.com/event/jeepin-for-justice-bbq-competition/
LOCATION:Shady Hills Fl\, 15362 Alric Pottberg Rd\, Shady Hills\, FL\, 34610\, United States
CATEGORIES:BBQ Competition
ATTACH;FMTTYPE=image/png:https://kingsbbqjax.com/wp-content/uploads/2025/12/Kings-Lakeland-Pigfest-2-1.png
ORGANIZER;CN="Kansas City Barbecue Society (KCBS)":MAILTO:info@kcbs.us
END:VEVENT
BEGIN:VEVENT
DTSTART;VALUE=DATE:20260227
DTEND;VALUE=DATE:20260301
DTSTAMP:20260419T103653
CREATED:20251212T170103Z
LAST-MODIFIED:20260220T214447Z
UID:851-1772150400-1772323199@kingsbbqjax.com
SUMMARY:Houston Livestock and Rodeo WORLD CHAMPIONSHIP  (2026)
DESCRIPTION:The World’s Championship Bar-B-Que Contest\, presented by Cotton Holdings\, brings together more than 250 elite barbecue teams for one of the most celebrated competitions in the country. Held over three days\, this iconic event blends high-level BBQ craftsmanship with the excitement of live entertainment\, giving visitors access to public venues like The Garden Stage presented by Miller Lite\, the Rockin’ Bar-B-Que Saloon\, and the Chuckwagon. From Texas country artists and DJ sets to thrilling carnival rides and complimentary barbecue plates\, the contest delivers a full-throttle festival experience that captures the spirit of Houston’s legendary rodeo season. \nRyan King and the Kings BBQ team will be firing up the pits throughout the weekend\, joining top-tier competitors from across the nation in pursuit of championship honors. Guests can stop by to cheer on the team\, catch a glimpse of world-class competition BBQ\, and enjoy the electric atmosphere of an event that blends food\, music\, and tradition on a grand scale. \nIf you’re in Houston February 26–28\, 2026\, come be part of the celebration as the World’s Championship Bar-B-Que Contest kicks off rodeo season with three days of incredible barbecue\, live entertainment\, and unforgettable fun.
URL:https://kingsbbqjax.com/event/houston-livestock-and-rodeo-world-championship-2026/
LOCATION:NRG Park\, 3 NRG Park\, Hosuton\, TX\, 77054\, United States
CATEGORIES:BBQ Competition
ATTACH;FMTTYPE=image/png:https://kingsbbqjax.com/wp-content/uploads/2025/12/Kings-Lakeland-Pigfest-1-1.png
END:VEVENT
BEGIN:VEVENT
DTSTART;VALUE=DATE:20260220
DTEND;VALUE=DATE:20260222
DTSTAMP:20260419T103653
CREATED:20251212T165246Z
LAST-MODIFIED:20260220T214457Z
UID:846-1771545600-1771718399@kingsbbqjax.com
SUMMARY:Ribs on the Ridge - Florida Triple Crown (2026)
DESCRIPTION:Ribs on the Ridge is set to bring serious barbecue heat to Central Florida as one of the region’s premier BBQ competitions. This two-day event draws professional and backyard teams from across Florida and the Southeast\, all converging to compete for cash prizes\, trophies\, and the ultimate hometown bragging rights. Known for its spirited atmosphere and fierce competition\, Ribs on the Ridge has become a must-attend event for pitmasters looking to showcase their skills on a respected regional stage. \nRyan King and the Kings BBQ team will be on-site throughout the weekend\, representing Jacksonville and putting their award-winning techniques to the test. Visitors are invited to stop by our cook site to cheer us on\, get a behind-the-scenes look at competition BBQ in action\, and soak in the energy of an event that brings together great food\, great people\, and great fun. \nIf you’re in Central Florida February 20–21\, 2026\, come join the celebration as Ribs on the Ridge fires up a weekend of unforgettable barbecue competition.
URL:https://kingsbbqjax.com/event/ribs-on-the-ridge-florida-triple-crown-2026/
LOCATION:Lake Eva Park\, 555 Ledwith Ave\, Haines City\, FL\, 33844\, United States
CATEGORIES:BBQ Competition
ATTACH;FMTTYPE=image/png:https://kingsbbqjax.com/wp-content/uploads/2025/12/Kings-Lakeland-Pigfest-2.png
END:VEVENT
END:VCALENDAR